BEGIN:VCALENDAR
VERSION:2.0
PRODID:-//Sacred Heart Music Center - ECPv6.15.12.2//NONSGML v1.0//EN
CALSCALE:GREGORIAN
METHOD:PUBLISH
X-WR-CALNAME:Sacred Heart Music Center
X-ORIGINAL-URL:https://sacredheartmusic.org
X-WR-CALDESC:Events for Sacred Heart Music Center
REFRESH-INTERVAL;VALUE=DURATION:PT1H
X-Robots-Tag:noindex
X-PUBLISHED-TTL:PT1H
BEGIN:VTIMEZONE
TZID:America/Chicago
BEGIN:DAYLIGHT
TZOFFSETFROM:-0600
TZOFFSETTO:-0500
TZNAME:CDT
DTSTART:20250309T080000
END:DAYLIGHT
BEGIN:STANDARD
TZOFFSETFROM:-0500
TZOFFSETTO:-0600
TZNAME:CST
DTSTART:20251102T070000
END:STANDARD
BEGIN:DAYLIGHT
TZOFFSETFROM:-0600
TZOFFSETTO:-0500
TZNAME:CDT
DTSTART:20260308T080000
END:DAYLIGHT
BEGIN:STANDARD
TZOFFSETFROM:-0500
TZOFFSETTO:-0600
TZNAME:CST
DTSTART:20261101T070000
END:STANDARD
BEGIN:DAYLIGHT
TZOFFSETFROM:-0600
TZOFFSETTO:-0500
TZNAME:CDT
DTSTART:20270314T080000
END:DAYLIGHT
BEGIN:STANDARD
TZOFFSETFROM:-0500
TZOFFSETTO:-0600
TZNAME:CST
DTSTART:20271107T070000
END:STANDARD
END:VTIMEZONE
BEGIN:VEVENT
DTSTART;TZID=America/Chicago:20260307T190000
DTEND;TZID=America/Chicago:20260307T213000
DTSTAMP:20260424T163135
CREATED:20260121T175040Z
LAST-MODIFIED:20260225T173504Z
UID:2948-1772910000-1772919000@sacredheartmusic.org
SUMMARY:Jazz Night: Kavyesh Kaviraj
DESCRIPTION:Kavyesh Kaviraj is a composer\, arranger and pianist living and working in Minnesota. The Twin Cities based musician has worked with several internationally renowned artists\, including the likes of Wynton Marsalis\, David Sanchez\, Justin Robinson\, Roosevelt Collier & Steve Cole. \nBorn in the town of Sohar in Oman to Indian parents\, Kavyesh began his musical journey almost immediately\, inspired by his family’s rich musical ancestry. After studying music in India\, Kavyesh moved to the United States in 2016 to pursue a music education career. He graduated from Columbia College Chicago in 2018\, with a Bachelor of Music degree in Jazz Studies and Contemporary Music. \nKaviraj performs and teaches in the Twin Cities and released “Fables\,” his debut album of original work\, in 2025. \nThe Duluth Studio Trio featuring students from the University of Minnesota Duluth will open the night. \nThis activity is made possible by the voters of Minnesota through a grant from the Minnesota State Arts Board\, thanks to a legislative appropriation from the arts and cultural heritage fund. \nAdvance E-tickets are available for $25 (plus $3.52 in fees) on Eventbrite HERE. Paper tickets are available for $25 at Zenith Bookstore in West Duluth (plus $1 handling fee) and at Globe News in Superior (cash only). Tickets will be available at the door for $30 (Student rush $5) while supply lasts. Doors at 6. Music at 7.
URL:https://sacredheartmusic.org/event/jazz-night-kavyesh-kaviraj/
LOCATION:Sacred Heart Music Center\, 201 West 4th Street\, Duluth\, MN\, 55806\, United States
CATEGORIES:Duluthlivestream,duluthmusic,minnesotamusic,sacredheartconcerts,Sacredheartduluth
ATTACH;FMTTYPE=image/jpeg:https://sacredheartmusic.org/wp-content/uploads/2026/01/FLYER-Jazz-Night-Kavyesh-Sacred-Heart-scaled.jpg
END:VEVENT
BEGIN:VEVENT
DTSTART;TZID=America/Chicago:20260327T190000
DTEND;TZID=America/Chicago:20260327T220000
DTSTAMP:20260424T163135
CREATED:20260126T231304Z
LAST-MODIFIED:20260225T173550Z
UID:2956-1774638000-1774648800@sacredheartmusic.org
SUMMARY:Blues Night: Cornbread Harris
DESCRIPTION:Minnesota music legend Cornbread Harris\, age 98\, sings and performs his unique brand of blues on piano with a full backing band in a historic night at Sacred Heart Music Center. \nBorn in Chicago and raised in St. Paul\, Harris began entertaining on piano while in the U.S. Army at a World War II recreation center. Following the war\, he joined a band led by Augie Garcia\, recording Minnesota’s first rock and roll hit “Hi-Yo Silver.” The group famously opened Elvis Presley’s first Twin Cities concert in 1956. \nHarris has performed solo jazz and blues piano regularly in Twin Cities nightclubs and bars for decades. He is the father of musician and Grammy-winning producer “Jimmy Jam” Harris. \nBiographer Andrea Swensson will discuss her 2024 University of Minnesota Press book Deeper Blues: The Life\, Songs\, and Salvation of Cornbread Harris prior to the show with Duluth New Tribune arts and entertainment reporter Jay Gabler. \nThis activity is made possible by the voters of Minnesota through a grant from the Minnesota State Arts Board\, thanks to a legislative appropriation from the arts and cultural heritage fund. \nAdvance E-tickets will are for $20 (plus $3.18 in fees) on Eventbrite HERE . Paper tickets are available for $20 at Zenith Bookstore in West Duluth (plus $1 handling fee) and at Globe News in Superior (cash only). Tickets will be available at the door for $25 while supply lasts. Doors at 6. Music at 7.
URL:https://sacredheartmusic.org/event/blues-night-cornbread-harris/
LOCATION:Sacred Heart Music Center\, 201 West 4th Street\, Duluth\, MN\, 55806\, United States
CATEGORIES:duluthmusic,minnesotamusic,sacredheartconcerts,Sacredheartduluth
ATTACH;FMTTYPE=image/jpeg:https://sacredheartmusic.org/wp-content/uploads/2026/01/FLYER-cornbread-harris-sacred-heart-scaled.jpg
END:VEVENT
END:VCALENDAR