BEGIN:VCALENDAR
VERSION:2.0
PRODID:-//Sacred Heart Music Center - ECPv6.15.12.2//NONSGML v1.0//EN
CALSCALE:GREGORIAN
METHOD:PUBLISH
X-ORIGINAL-URL:https://sacredheartmusic.org
X-WR-CALDESC:Events for Sacred Heart Music Center
REFRESH-INTERVAL;VALUE=DURATION:PT1H
X-Robots-Tag:noindex
X-PUBLISHED-TTL:PT1H
BEGIN:VTIMEZONE
TZID:America/Chicago
BEGIN:DAYLIGHT
TZOFFSETFROM:-0600
TZOFFSETTO:-0500
TZNAME:CDT
DTSTART:20250309T080000
END:DAYLIGHT
BEGIN:STANDARD
TZOFFSETFROM:-0500
TZOFFSETTO:-0600
TZNAME:CST
DTSTART:20251102T070000
END:STANDARD
BEGIN:DAYLIGHT
TZOFFSETFROM:-0600
TZOFFSETTO:-0500
TZNAME:CDT
DTSTART:20260308T080000
END:DAYLIGHT
BEGIN:STANDARD
TZOFFSETFROM:-0500
TZOFFSETTO:-0600
TZNAME:CST
DTSTART:20261101T070000
END:STANDARD
BEGIN:DAYLIGHT
TZOFFSETFROM:-0600
TZOFFSETTO:-0500
TZNAME:CDT
DTSTART:20270314T080000
END:DAYLIGHT
BEGIN:STANDARD
TZOFFSETFROM:-0500
TZOFFSETTO:-0600
TZNAME:CST
DTSTART:20271107T070000
END:STANDARD
END:VTIMEZONE
BEGIN:VEVENT
DTSTART;TZID=America/Chicago:20260424T193000
DTEND;TZID=America/Chicago:20260424T220000
DTSTAMP:20260421T033712
CREATED:20260309T143736Z
LAST-MODIFIED:20260309T143736Z
UID:2973-1777059000-1777068000@sacredheartmusic.org
SUMMARY:Sara Thomsen & Peter Mayer
DESCRIPTION:Minnesota folk favorites share the beautiful altar stage for a special concert celebrating Earth Day. \n\n\n\n\nMinnesota folk favorites Sara Thomsen and Peter Mayer will celebrate Earth Day with a great double bill on the beautiful Sacred Heart altar stage at 7:30 pm Friday\, April 24. \nA portion of the ticket proceeds will go to Ecolibrium3\, a sustainability non-profit working in Duluth’s Lincoln Park neighborhood. \nBased in Stillwater\, Peter Mayer has produced music full-time for 25 years\, performing in venues across the United States and beyond. He writes songs for a small planet\, songs about life and the mysterious fact of our existence. He also writes about dress hats\, pumpkins and pajamas and other important stuff. Peter has 11 albums to his credit and has sold over 100\,000 of them to his legions of fans. \nNorthland singer-songwriter Sara Thomsen has released seven solo albums including her latest “Here and Gone.” She is artist director and member of “Three Altos” and is the founder and artistic director of the Echos for Peace Choir. Her music has been compared to Joan Baez\, Pete Seeger and Holly Near\, filled with passion for love\, life\, nature and human rights. \nPeter and Sara will each perform a set and play together on a few choice songs as we celebrate our planet. \nTickets are $30 in advance (plus $3.85 in fees) and $35 at the door. E-tickets will be available HERE at 10 am Friday\, March 20. Paper tickets will be available at Globe News in Superior (cash only) and Zenith Bookstore in West Duluth(plus $1 service fee). Tickets will be available at the door while supply lasts. Doors at 6:30 pm. Music at 7:30.
URL:https://sacredheartmusic.org/event/sara-thomsen-peter-mayer-2/
LOCATION:Sacred Heart Music Center\, 201 West 4th Street\, Duluth\, MN\, 55806\, United States
CATEGORIES:duluthmusic,minnesotamusic,sacredheartconcerts,Sacredheartduluth
ATTACH;FMTTYPE=image/jpeg:https://sacredheartmusic.org/wp-content/uploads/2026/03/Peter-Sara-copy.jpg
END:VEVENT
BEGIN:VEVENT
DTSTART;TZID=America/Chicago:20260501T190000
DTEND;TZID=America/Chicago:20260501T220000
DTSTAMP:20260421T033712
CREATED:20260323T204121Z
LAST-MODIFIED:20260323T204121Z
UID:2979-1777662000-1777672800@sacredheartmusic.org
SUMMARY:Duluth Homegrown Music Festival
DESCRIPTION:The Duluth Homegrown Music Festival takes over the altar stage with three Twin Ports area bands performing each night May 1-2.  \nFriday\, May 1: \n7 p.m. – James Taylor Donskey \n8 p.m. – Lee Clark Allen \n9 p.m. – Ross Thorn \nFor ticket information go to the Duluth Homegrown Music Festival website HERE.
URL:https://sacredheartmusic.org/event/duluth-homegrown-music-festival-7/
LOCATION:Sacred Heart Music Center\, 201 West 4th Street\, Duluth\, MN\, 55806\, United States
CATEGORIES:Duluthhomegrown,duluthmusic,minnesotamusic,sacredheartconcerts,Sacredheartduluth
ATTACH;FMTTYPE=image/jpeg:https://sacredheartmusic.org/wp-content/uploads/2023/03/Homegrown-chicken.jpg
END:VEVENT
BEGIN:VEVENT
DTSTART;TZID=America/Chicago:20260502T190000
DTEND;TZID=America/Chicago:20260502T220000
DTSTAMP:20260421T033712
CREATED:20260323T205002Z
LAST-MODIFIED:20260324T133246Z
UID:2982-1777748400-1777759200@sacredheartmusic.org
SUMMARY:Duluth Homegrown Music Festival
DESCRIPTION:The Duluth Homegrown Music Festival takes over the altar stage with three Twin Ports area bands performing each night May 1-2.  \nSaturday\, May 2: \n7 p.m. – Misisipi Mike & The Plain High Drifters \n8 p.m. – Cyr & The Cosmonauts \n9 p.m. – Witchfarm \nFor ticket information go to the Duluth Homegrown Music Festival website HERE.
URL:https://sacredheartmusic.org/event/duluth-homegrown-music-festival-8/
LOCATION:Sacred Heart Music Center\, 201 West 4th Street\, Duluth\, MN\, 55806\, United States
CATEGORIES:duluthmusic,Homegrownmusicfestival,minnesotamusic,sacredheartconcerts,Sacredheartduluth
ATTACH;FMTTYPE=image/jpeg:https://sacredheartmusic.org/wp-content/uploads/2023/03/Homegrown-chicken.jpg
END:VEVENT
BEGIN:VEVENT
DTSTART;TZID=America/Chicago:20260515T190000
DTEND;TZID=America/Chicago:20260515T223000
DTSTAMP:20260421T033712
CREATED:20260326T211659Z
LAST-MODIFIED:20260326T211659Z
UID:2987-1778871600-1778884200@sacredheartmusic.org
SUMMARY:Saltydog & Lanue
DESCRIPTION:Duluth’s favorite jam band Saltydog and Eau Claire-based Lanue share the beautiful Sacred Heart altar stage with a one-time-only concert at 7 p.m. Friday\, May 15. \nSaltydog is a funk jam Improvisational exploration that takes the audience & band on a journey through their playfully crafted folk driven tunes inspired by the likes of everyone from The Talking Heads\, The Band\, those classic country and jam band staples along with everyone in between. \nThe band spawned on the banks of Duluth’s ice covered stones by brothers Jacob and Owen Mahon. This midwestern psychedelic cowboy review features Calvin (Calzone) Lund\, Lefty Johnson\, Gavin St. Clair\, and Sam Deters. \nThe group released its third album “Runnin’ Again” earlier this year. \nSinger-songwriter Sarah Krueger founded Lanue in Duluth and released a self-titled debut album in 2021. Krueger has a knack for straightforward and earnest songwriting while maintaining a vocal delivery that sits like honey over layers of warm synths\, guitars\, and percussion. Ranging from confessional to nostalgic\, each track is brightened by a lush lift while continuing to rest inside the framework of the folk tradition. \nKrueger relocated to her hometown of Eau Claire\, Wisconsin\, and continues to push the Lanue sound forward. \nAdvance E-tickets will be available for $15 (plus $2.85 in fees) on Eventbrite beginning at 10 a.m Wednesday\, April 1 HERE. Paper tickets will be available for $15 at Zenith Bookstore in West Duluth (plus $1 handling fee) and at Globe News in Superior (cash only). Tickets will be available at the door for $20 while supply lasts. Doors at 6. Music at 7.
URL:https://sacredheartmusic.org/event/saltydog-lanue/
LOCATION:Sacred Heart Music Center\, 201 West 4th Street\, Duluth\, MN\, 55806\, United States
CATEGORIES:duluthmusic,minnesotamusic,sacredheartconcerts,Sacredheartduluth
ATTACH;FMTTYPE=image/jpeg:https://sacredheartmusic.org/wp-content/uploads/2026/03/Saltydog-poster.jpg
END:VEVENT
BEGIN:VEVENT
DTSTART;TZID=America/Chicago:20260522T190000
DTEND;TZID=America/Chicago:20260522T220000
DTSTAMP:20260421T033712
CREATED:20260331T155606Z
LAST-MODIFIED:20260331T155606Z
UID:2997-1779476400-1779487200@sacredheartmusic.org
SUMMARY:Duluth Dylan Fest Songwriter Contest
DESCRIPTION:The Duluth Dylan Fest hosts its annual Singer/Songwriter Contest featuring musicians from all over performing an original song and a Bob Dylan song beginning at 7pm Friday\, May 22. \nParticipants are judged only on their original song and prizes are awarded to the top three artists. \nE-tickets are $10 plus a $2.50 service fee on Eventbrite HERE. Tickets will be available at the door for $15. Doors at 6. Music at 7.
URL:https://sacredheartmusic.org/event/duluth-dylan-fest-songwriter-contest-2/
LOCATION:Sacred Heart Music Center\, 201 West 4th Street\, Duluth\, MN\, 55806\, United States
CATEGORIES:DuluthDylanFest,duluthmusic,minnesotamusic,sacredheartconcerts
ATTACH;FMTTYPE=image/jpeg:https://sacredheartmusic.org/wp-content/uploads/2026/03/Duluth-DylanFest-poster-2.jpg
END:VEVENT
BEGIN:VEVENT
DTSTART;TZID=America/Chicago:20260523T190000
DTEND;TZID=America/Chicago:20260523T213000
DTSTAMP:20260421T033712
CREATED:20260331T160413Z
LAST-MODIFIED:20260331T232142Z
UID:3001-1779562800-1779571800@sacredheartmusic.org
SUMMARY:The Music of Bob Dylan performed by Dan Israel & Friends
DESCRIPTION:Longtime Minnesota singer-songwriter and Bob Dylan aficionado Dan Israel returns to Sacred Heart Music Center for Duluth DylanFest 2026 with an all-star band for this one-time only performance Saturday\, May 23. \nThe band will feature ace guitarist Steve Brantseg (of the Suburbs and Phones)\, along with bassist Bart Bakker\, drummer David J. Russ (also a veteran of numerous Minnesota rock bands) and keys/piano player GR Svenddal. The group will perform a wide range of material spanning Dylan’s amazing career – drawing from classic ’60s albums like “Bringing it All Back Home” and “Highway 61 Revisited” and “Nashville Skyline\,” legendary ’70s records like “Blood on the Tracks” and “Desire\,” as well as strong material from later-period Dylan albums like “Infidels” and “Oh\, Mercy\,” and much\, much more. \nBeing big Dylan fans themselves\, the group will be playing Bob’s music with dedication\, passion and reverence\, but also injecting it with their own musical sensibilities. \nE-tickets are available for $20 (plus $3.18 in fees) on Eventbrite.com HERE. Paper tickets will be available at Globe News in Superior (cash only) and Zenith Bookstore (plus $1 handling fee) in West Duluth. Tickets will be available at the door for $25. Doors at 6 pm. Music at 7 pm.
URL:https://sacredheartmusic.org/event/the-music-of-bob-dylan-performed-by-dan-israel-friends/
LOCATION:Sacred Heart Music Center\, 201 West 4th Street\, Duluth\, MN\, 55806\, United States
CATEGORIES:DuluthDylanFest,duluthmusic,minnesotamusic
ATTACH;FMTTYPE=image/jpeg:https://sacredheartmusic.org/wp-content/uploads/2026/03/Infidels.jpeg
END:VEVENT
BEGIN:VEVENT
DTSTART;TZID=America/Chicago:20260531T150000
DTEND;TZID=America/Chicago:20260531T163000
DTSTAMP:20260421T033712
CREATED:20260417T154121Z
LAST-MODIFIED:20260417T154121Z
UID:3005-1780239600-1780245000@sacredheartmusic.org
SUMMARY:Canal String Quartet - Beethoven & Perrault
DESCRIPTION:The Duluth Superior Symphony Orchestra debuts its Canal String Quartet on the beautiful Sacred Heart altar stage at 3 pm on Sunday\, May 31. \nThe Canal String Quartet blends contemporary storytelling with classical brilliance. Featuring “Exodus\,” a three-movement work dedicated to all those forced from their homelands\, by local Haitian American composer Jean “Rudy” Perrault. The piece will be paired with the first of Beethoven’s famous “Razumovsky” Quartets.  \nDon’t miss this timely and important event. \nAdvance tickets are available HERE. Tickets will be available at the door while supply lasts. Doors at 2 pm. Music at 3.
URL:https://sacredheartmusic.org/event/canal-string-quartet-beethoven-perrault/
LOCATION:Sacred Heart Music Center\, 201 West 4th Street\, Duluth\, MN\, 55806\, United States
CATEGORIES:duluthmusic,minnesotamusic,sacredheartconcerts,Sacredheartduluth
ATTACH;FMTTYPE=image/jpeg:https://sacredheartmusic.org/wp-content/uploads/2026/04/DSSO-Presents-Web-02.jpg
END:VEVENT
END:VCALENDAR