BEGIN:VCALENDAR
VERSION:2.0
PRODID:-//Sacred Heart Music Center - ECPv6.15.12.2//NONSGML v1.0//EN
CALSCALE:GREGORIAN
METHOD:PUBLISH
X-ORIGINAL-URL:https://sacredheartmusic.org
X-WR-CALDESC:Events for Sacred Heart Music Center
REFRESH-INTERVAL;VALUE=DURATION:PT1H
X-Robots-Tag:noindex
X-PUBLISHED-TTL:PT1H
BEGIN:VTIMEZONE
TZID:America/Chicago
BEGIN:DAYLIGHT
TZOFFSETFROM:-0600
TZOFFSETTO:-0500
TZNAME:CDT
DTSTART:20250309T080000
END:DAYLIGHT
BEGIN:STANDARD
TZOFFSETFROM:-0500
TZOFFSETTO:-0600
TZNAME:CST
DTSTART:20251102T070000
END:STANDARD
BEGIN:DAYLIGHT
TZOFFSETFROM:-0600
TZOFFSETTO:-0500
TZNAME:CDT
DTSTART:20260308T080000
END:DAYLIGHT
BEGIN:STANDARD
TZOFFSETFROM:-0500
TZOFFSETTO:-0600
TZNAME:CST
DTSTART:20261101T070000
END:STANDARD
BEGIN:DAYLIGHT
TZOFFSETFROM:-0600
TZOFFSETTO:-0500
TZNAME:CDT
DTSTART:20270314T080000
END:DAYLIGHT
BEGIN:STANDARD
TZOFFSETFROM:-0500
TZOFFSETTO:-0600
TZNAME:CST
DTSTART:20271107T070000
END:STANDARD
END:VTIMEZONE
BEGIN:VEVENT
DTSTART;TZID=America/Chicago:20260531T150000
DTEND;TZID=America/Chicago:20260531T163000
DTSTAMP:20260425T093000
CREATED:20260417T154121Z
LAST-MODIFIED:20260417T154121Z
UID:3005-1780239600-1780245000@sacredheartmusic.org
SUMMARY:Canal String Quartet - Beethoven & Perrault
DESCRIPTION:The Duluth Superior Symphony Orchestra debuts its Canal String Quartet on the beautiful Sacred Heart altar stage at 3 pm on Sunday\, May 31. \nThe Canal String Quartet blends contemporary storytelling with classical brilliance. Featuring “Exodus\,” a three-movement work dedicated to all those forced from their homelands\, by local Haitian American composer Jean “Rudy” Perrault. The piece will be paired with the first of Beethoven’s famous “Razumovsky” Quartets.  \nDon’t miss this timely and important event. \nAdvance tickets are available HERE. Tickets will be available at the door while supply lasts. Doors at 2 pm. Music at 3.
URL:https://sacredheartmusic.org/event/canal-string-quartet-beethoven-perrault/
LOCATION:Sacred Heart Music Center\, 201 West 4th Street\, Duluth\, MN\, 55806\, United States
CATEGORIES:duluthmusic,minnesotamusic,sacredheartconcerts,Sacredheartduluth
ATTACH;FMTTYPE=image/jpeg:https://sacredheartmusic.org/wp-content/uploads/2026/04/DSSO-Presents-Web-02.jpg
END:VEVENT
END:VCALENDAR